BEGIN:VCALENDAR
VERSION:2.0
PRODID:-//Partnerstwo na Rzecz Profilaktyki i Leczenia Otyłości - ECPv6.15.17//NONSGML v1.0//EN
CALSCALE:GREGORIAN
METHOD:PUBLISH
X-WR-CALNAME:Partnerstwo na Rzecz Profilaktyki i Leczenia Otyłości
X-ORIGINAL-URL:https://stop-otylosci.pl
X-WR-CALDESC:Wydarzenia dla Partnerstwo na Rzecz Profilaktyki i Leczenia Otyłości
REFRESH-INTERVAL;VALUE=DURATION:PT1H
X-Robots-Tag:noindex
X-PUBLISHED-TTL:PT1H
BEGIN:VTIMEZONE
TZID:Europe/Warsaw
BEGIN:DAYLIGHT
TZOFFSETFROM:+0100
TZOFFSETTO:+0200
TZNAME:CEST
DTSTART:20240331T010000
END:DAYLIGHT
BEGIN:STANDARD
TZOFFSETFROM:+0200
TZOFFSETTO:+0100
TZNAME:CET
DTSTART:20241027T010000
END:STANDARD
BEGIN:DAYLIGHT
TZOFFSETFROM:+0100
TZOFFSETTO:+0200
TZNAME:CEST
DTSTART:20250330T010000
END:DAYLIGHT
BEGIN:STANDARD
TZOFFSETFROM:+0200
TZOFFSETTO:+0100
TZNAME:CET
DTSTART:20251026T010000
END:STANDARD
BEGIN:DAYLIGHT
TZOFFSETFROM:+0100
TZOFFSETTO:+0200
TZNAME:CEST
DTSTART:20260329T010000
END:DAYLIGHT
BEGIN:STANDARD
TZOFFSETFROM:+0200
TZOFFSETTO:+0100
TZNAME:CET
DTSTART:20261025T010000
END:STANDARD
END:VTIMEZONE
BEGIN:VEVENT
DTSTART;VALUE=DATE:20251015
DTEND;VALUE=DATE:20251018
DTSTAMP:20260420T053928
CREATED:20260122T130711Z
LAST-MODIFIED:20260122T130711Z
UID:1589-1760486400-1760745599@stop-otylosci.pl
SUMMARY:Europejskie Forum Nowych Ideii
DESCRIPTION:Debata „Niezdrowo zasiedzeni. Jak rozruszać fotelową cywilizację?” odbyła się 16 października 2025 roku w ramach Europejskiego Forum Nowych Idei\, poruszając kwestie zdrowego stylu życia i aktywności fizycznej. W panelu\, którego byliśmy współtwórcami\, eksperci z różnych sektorów dyskutowali o przeciwdziałaniu siedzącemu trybowi życia i promowaniu ruchu. Nasz udział podkreślił zaangażowanie w promocję zdrowia publicznego i zachęcanie do systemowych zmian w stylu życia. \nWięcej
URL:https://stop-otylosci.pl/wydarzenie/europejskie-forum-nowych-ideii/
END:VEVENT
END:VCALENDAR